BEGIN:VCALENDAR
VERSION:2.0
PRODID:-//Katholischer Musikverein Weinheim - ECPv6.15.20//NONSGML v1.0//EN
CALSCALE:GREGORIAN
METHOD:PUBLISH
X-ORIGINAL-URL:https://www.kmv-weinheim.de
X-WR-CALDESC:Veranstaltungen für Katholischer Musikverein Weinheim
REFRESH-INTERVAL;VALUE=DURATION:PT1H
X-Robots-Tag:noindex
X-PUBLISHED-TTL:PT1H
BEGIN:VTIMEZONE
TZID:Europe/Berlin
BEGIN:DAYLIGHT
TZOFFSETFROM:+0100
TZOFFSETTO:+0200
TZNAME:CEST
DTSTART:20240331T010000
END:DAYLIGHT
BEGIN:STANDARD
TZOFFSETFROM:+0200
TZOFFSETTO:+0100
TZNAME:CET
DTSTART:20241027T010000
END:STANDARD
BEGIN:DAYLIGHT
TZOFFSETFROM:+0100
TZOFFSETTO:+0200
TZNAME:CEST
DTSTART:20250330T010000
END:DAYLIGHT
BEGIN:STANDARD
TZOFFSETFROM:+0200
TZOFFSETTO:+0100
TZNAME:CET
DTSTART:20251026T010000
END:STANDARD
BEGIN:DAYLIGHT
TZOFFSETFROM:+0100
TZOFFSETTO:+0200
TZNAME:CEST
DTSTART:20260329T010000
END:DAYLIGHT
BEGIN:STANDARD
TZOFFSETFROM:+0200
TZOFFSETTO:+0100
TZNAME:CET
DTSTART:20261025T010000
END:STANDARD
END:VTIMEZONE
BEGIN:VEVENT
DTSTART;VALUE=DATE:20250905
DTEND;VALUE=DATE:20250906
DTSTAMP:20260425T192637
CREATED:20250629T081803Z
LAST-MODIFIED:20250629T081803Z
UID:5545-1757030400-1757116799@www.kmv-weinheim.de
SUMMARY:Eröffnung Weinheimer Kerb
DESCRIPTION:Ökumenischer Gottesdienst + Umzug
URL:https://www.kmv-weinheim.de/termin/eroeffnung-weinheimer-kerb/
LOCATION:Alzey-Weinheim
CATEGORIES:Kerb,kirchliche Feier,Umzug
END:VEVENT
BEGIN:VEVENT
DTSTART;VALUE=DATE:20250906
DTEND;VALUE=DATE:20250909
DTSTAMP:20260425T192637
CREATED:20250629T082028Z
LAST-MODIFIED:20250629T082028Z
UID:5549-1757116800-1757375999@www.kmv-weinheim.de
SUMMARY:Getränkestand zur Weinheimer Kerb
DESCRIPTION:zusammen mit der TSG Weinheim
URL:https://www.kmv-weinheim.de/termin/getraenkestand-zur-weinheimer-kerb/
LOCATION:Alzey-Weinheim
CATEGORIES:Kerb
END:VEVENT
BEGIN:VEVENT
DTSTART;VALUE=DATE:20250907
DTEND;VALUE=DATE:20250908
DTSTAMP:20260425T192637
CREATED:20250629T081911Z
LAST-MODIFIED:20250629T081911Z
UID:5547-1757203200-1757289599@www.kmv-weinheim.de
SUMMARY:Gottesdienst zur Weinheimer Kerb
DESCRIPTION:
URL:https://www.kmv-weinheim.de/termin/gottesdienst-zur-weinheimer-kerb/
LOCATION:Alzey-Weinheim
CATEGORIES:Kerb,kirchliche Feier
END:VEVENT
BEGIN:VEVENT
DTSTART;TZID=Europe/Berlin:20250921T150000
DTEND;TZID=Europe/Berlin:20250921T170000
DTSTAMP:20260425T192637
CREATED:20250602T102515Z
LAST-MODIFIED:20250602T102515Z
UID:5536-1758466800-1758474000@www.kmv-weinheim.de
SUMMARY:Platzkonzert Winzerfest
DESCRIPTION:auf der Bühne am Fischmarkt
URL:https://www.kmv-weinheim.de/termin/platzkonzert-winzerfest-2/
LOCATION:Alzey\, Rossmarkt\, Alzey\, Rheinland-Pfalz\, 55232\, Deutschland
CATEGORIES:Unterhaltungsmusik
END:VEVENT
BEGIN:VEVENT
DTSTART;TZID=Europe/Berlin:20250928T133000
DTEND;TZID=Europe/Berlin:20250928T160000
DTSTAMP:20260425T192637
CREATED:20250629T081552Z
LAST-MODIFIED:20250629T081552Z
UID:5543-1759066200-1759075200@www.kmv-weinheim.de
SUMMARY:Umzug zur Gauersheimer Kerb
DESCRIPTION:Gauersheim
URL:https://www.kmv-weinheim.de/termin/umzug-zur-gauersheimer-kerb/
LOCATION:Gauersheim\, Rheinland-Pfalz\,  	67294\, Deutschland
CATEGORIES:Umzug
END:VEVENT
END:VCALENDAR