BEGIN:VCALENDAR
VERSION:2.0
PRODID:-//Katholischer Musikverein Weinheim - ECPv6.15.20//NONSGML v1.0//EN
CALSCALE:GREGORIAN
METHOD:PUBLISH
X-WR-CALNAME:Katholischer Musikverein Weinheim
X-ORIGINAL-URL:https://www.kmv-weinheim.de
X-WR-CALDESC:Veranstaltungen für Katholischer Musikverein Weinheim
REFRESH-INTERVAL;VALUE=DURATION:PT1H
X-Robots-Tag:noindex
X-PUBLISHED-TTL:PT1H
BEGIN:VTIMEZONE
TZID:Europe/Berlin
BEGIN:DAYLIGHT
TZOFFSETFROM:+0100
TZOFFSETTO:+0200
TZNAME:CEST
DTSTART:20240331T010000
END:DAYLIGHT
BEGIN:STANDARD
TZOFFSETFROM:+0200
TZOFFSETTO:+0100
TZNAME:CET
DTSTART:20241027T010000
END:STANDARD
BEGIN:DAYLIGHT
TZOFFSETFROM:+0100
TZOFFSETTO:+0200
TZNAME:CEST
DTSTART:20250330T010000
END:DAYLIGHT
BEGIN:STANDARD
TZOFFSETFROM:+0200
TZOFFSETTO:+0100
TZNAME:CET
DTSTART:20251026T010000
END:STANDARD
BEGIN:DAYLIGHT
TZOFFSETFROM:+0100
TZOFFSETTO:+0200
TZNAME:CEST
DTSTART:20260329T010000
END:DAYLIGHT
BEGIN:STANDARD
TZOFFSETFROM:+0200
TZOFFSETTO:+0100
TZNAME:CET
DTSTART:20261025T010000
END:STANDARD
END:VTIMEZONE
BEGIN:VEVENT
DTSTART;TZID=Europe/Berlin:20251206T160000
DTEND;TZID=Europe/Berlin:20251206T180000
DTSTAMP:20260425T142100
CREATED:20251123T142039Z
LAST-MODIFIED:20251123T142039Z
UID:5611-1765036800-1765044000@www.kmv-weinheim.de
SUMMARY:Christkindchesmarkt Alzey
DESCRIPTION:Weihnachtsliederspielen auf dem Alzeyer Christkindchesmarkt
URL:https://www.kmv-weinheim.de/termin/christkindchesmarkt-alzey/
LOCATION:Alzey\, Rossmarkt\, Alzey\, Rheinland-Pfalz\, 55232\, Deutschland
CATEGORIES:Unterhaltungsmusik
END:VEVENT
BEGIN:VEVENT
DTSTART;TZID=Europe/Berlin:20251207T113000
DTEND;TZID=Europe/Berlin:20251207T113000
DTSTAMP:20260425T142100
CREATED:20251123T143805Z
LAST-MODIFIED:20251123T143805Z
UID:5626-1765107000-1765107000@www.kmv-weinheim.de
SUMMARY:Requiem
DESCRIPTION:
URL:https://www.kmv-weinheim.de/termin/requiem-2/
LOCATION:Kath. Kirche St. Gallus\, Weinheim\, St. Gallus Ring\, Alzey-Weinheim\, Rheinland-Pfalz\, 55232\, Deutschland
CATEGORIES:kirchliche Feier
END:VEVENT
BEGIN:VEVENT
DTSTART;TZID=Europe/Berlin:20251213T140000
DTEND;TZID=Europe/Berlin:20251213T150000
DTSTAMP:20260425T142100
CREATED:20251123T142400Z
LAST-MODIFIED:20251123T142400Z
UID:5613-1765634400-1765638000@www.kmv-weinheim.de
SUMMARY:Musik zum Weihnachtsbaumverkauf
DESCRIPTION:Weihnachtslieder zum Christbaumverkauf der Weinheimer Feuerwehr
URL:https://www.kmv-weinheim.de/termin/musik-zum-weihnachtsbaumverkauf-2/
LOCATION:Alzey-Weinheim
CATEGORIES:Unterhaltungsmusik
END:VEVENT
BEGIN:VEVENT
DTSTART;TZID=Europe/Berlin:20251220T193000
DTEND;TZID=Europe/Berlin:20251220T230000
DTSTAMP:20260425T142100
CREATED:20251123T142914Z
LAST-MODIFIED:20251123T142914Z
UID:5615-1766259000-1766271600@www.kmv-weinheim.de
SUMMARY:Weihnachtsfeier KMV
DESCRIPTION:Unsere alljährliche Weihnachtsfeier für Musikerinnen und Musiker mit Familien.
URL:https://www.kmv-weinheim.de/termin/weihnachtsfeier-kmv/
LOCATION:Haus St. Gallus\, St.-Gallus-Ring 32\, Alzey\, Rheinland-Pfalz\, 55232\, Deutschland
CATEGORIES:Verein
END:VEVENT
BEGIN:VEVENT
DTSTART;TZID=Europe/Berlin:20251224T130000
DTEND;TZID=Europe/Berlin:20251224T150000
DTSTAMP:20260425T142100
CREATED:20251123T143238Z
LAST-MODIFIED:20251123T143238Z
UID:5617-1766581200-1766588400@www.kmv-weinheim.de
SUMMARY:Kurrendeblasen
DESCRIPTION:Weihnachtslieder auf den Dorfplätzen in Nieder-Wiesen\, Bechenheim und Weinheim.
URL:https://www.kmv-weinheim.de/termin/kurrendeblasen-2/
LOCATION:Nieder-Wiesen\, Bechenheim\, Weinheim
CATEGORIES:Unterhaltungsmusik
END:VEVENT
BEGIN:VEVENT
DTSTART;TZID=Europe/Berlin:20251224T170000
DTEND;TZID=Europe/Berlin:20251224T180000
DTSTAMP:20260425T142100
CREATED:20251123T143345Z
LAST-MODIFIED:20251123T143345Z
UID:5620-1766595600-1766599200@www.kmv-weinheim.de
SUMMARY:Christmette
DESCRIPTION:
URL:https://www.kmv-weinheim.de/termin/christmette-3/
LOCATION:Kath. Kirche St. Gallus\, Weinheim\, St. Gallus Ring\, Alzey-Weinheim\, Rheinland-Pfalz\, 55232\, Deutschland
CATEGORIES:kirchliche Feier
END:VEVENT
BEGIN:VEVENT
DTSTART;TZID=Europe/Berlin:20251226T103000
DTEND;TZID=Europe/Berlin:20251226T113000
DTSTAMP:20260425T142100
CREATED:20251123T143430Z
LAST-MODIFIED:20251123T143430Z
UID:5622-1766745000-1766748600@www.kmv-weinheim.de
SUMMARY:Gottesdienst zweiter Weihnachtstag
DESCRIPTION:
URL:https://www.kmv-weinheim.de/termin/gottesdienst-zweiter-weihnachtstag-4/
LOCATION:Kath. Kirche St. Gallus\, Weinheim\, St. Gallus Ring\, Alzey-Weinheim\, Rheinland-Pfalz\, 55232\, Deutschland
CATEGORIES:kirchliche Feier
END:VEVENT
BEGIN:VEVENT
DTSTART;TZID=Europe/Berlin:20251231T170000
DTEND;TZID=Europe/Berlin:20251231T180000
DTSTAMP:20260425T142100
CREATED:20251123T143724Z
LAST-MODIFIED:20251123T143724Z
UID:5624-1767200400-1767204000@www.kmv-weinheim.de
SUMMARY:Gottesdienst zum Jahresabschluss
DESCRIPTION:
URL:https://www.kmv-weinheim.de/termin/gottesdienst-zum-jahresabschluss-4/
LOCATION:Kath. Kirche St. Gallus\, Weinheim\, St. Gallus Ring\, Alzey-Weinheim\, Rheinland-Pfalz\, 55232\, Deutschland
CATEGORIES:kirchliche Feier
END:VEVENT
END:VCALENDAR