BEGIN:VCALENDAR
VERSION:2.0
PRODID:-//Katholischer Musikverein Weinheim - ECPv6.15.20//NONSGML v1.0//EN
CALSCALE:GREGORIAN
METHOD:PUBLISH
X-WR-CALNAME:Katholischer Musikverein Weinheim
X-ORIGINAL-URL:https://www.kmv-weinheim.de
X-WR-CALDESC:Veranstaltungen für Katholischer Musikverein Weinheim
REFRESH-INTERVAL;VALUE=DURATION:PT1H
X-Robots-Tag:noindex
X-PUBLISHED-TTL:PT1H
BEGIN:VTIMEZONE
TZID:Europe/Berlin
BEGIN:DAYLIGHT
TZOFFSETFROM:+0100
TZOFFSETTO:+0200
TZNAME:CEST
DTSTART:20250330T010000
END:DAYLIGHT
BEGIN:STANDARD
TZOFFSETFROM:+0200
TZOFFSETTO:+0100
TZNAME:CET
DTSTART:20251026T010000
END:STANDARD
BEGIN:DAYLIGHT
TZOFFSETFROM:+0100
TZOFFSETTO:+0200
TZNAME:CEST
DTSTART:20260329T010000
END:DAYLIGHT
BEGIN:STANDARD
TZOFFSETFROM:+0200
TZOFFSETTO:+0100
TZNAME:CET
DTSTART:20261025T010000
END:STANDARD
BEGIN:DAYLIGHT
TZOFFSETFROM:+0100
TZOFFSETTO:+0200
TZNAME:CEST
DTSTART:20270328T010000
END:DAYLIGHT
BEGIN:STANDARD
TZOFFSETFROM:+0200
TZOFFSETTO:+0100
TZNAME:CET
DTSTART:20271031T010000
END:STANDARD
END:VTIMEZONE
BEGIN:VEVENT
DTSTART;TZID=Europe/Berlin:20260111T170000
DTEND;TZID=Europe/Berlin:20260111T183000
DTSTAMP:20260425T124148
CREATED:20251230T085904Z
LAST-MODIFIED:20251230T085904Z
UID:5633-1768150800-1768156200@www.kmv-weinheim.de
SUMMARY:Unterhaltungsmusik Neujahrsempfang
DESCRIPTION:
URL:https://www.kmv-weinheim.de/termin/unterhaltungsmusik-neujahrsempfang/
LOCATION:Riedbachhalle\, Muskatellerweg 22\, Alzey\, Rheinland-Pfalz\, 55232\, Deutschland
CATEGORIES:Unterhaltungsmusik
END:VEVENT
END:VCALENDAR