BEGIN:VCALENDAR
VERSION:2.0
PRODID:-//Katholischer Musikverein Weinheim - ECPv6.15.20//NONSGML v1.0//EN
CALSCALE:GREGORIAN
METHOD:PUBLISH
X-WR-CALNAME:Katholischer Musikverein Weinheim
X-ORIGINAL-URL:https://www.kmv-weinheim.de
X-WR-CALDESC:Veranstaltungen für Katholischer Musikverein Weinheim
REFRESH-INTERVAL;VALUE=DURATION:PT1H
X-Robots-Tag:noindex
X-PUBLISHED-TTL:PT1H
BEGIN:VTIMEZONE
TZID:Europe/Berlin
BEGIN:DAYLIGHT
TZOFFSETFROM:+0100
TZOFFSETTO:+0200
TZNAME:CEST
DTSTART:20250330T010000
END:DAYLIGHT
BEGIN:STANDARD
TZOFFSETFROM:+0200
TZOFFSETTO:+0100
TZNAME:CET
DTSTART:20251026T010000
END:STANDARD
BEGIN:DAYLIGHT
TZOFFSETFROM:+0100
TZOFFSETTO:+0200
TZNAME:CEST
DTSTART:20260329T010000
END:DAYLIGHT
BEGIN:STANDARD
TZOFFSETFROM:+0200
TZOFFSETTO:+0100
TZNAME:CET
DTSTART:20261025T010000
END:STANDARD
BEGIN:DAYLIGHT
TZOFFSETFROM:+0100
TZOFFSETTO:+0200
TZNAME:CEST
DTSTART:20270328T010000
END:DAYLIGHT
BEGIN:STANDARD
TZOFFSETFROM:+0200
TZOFFSETTO:+0100
TZNAME:CET
DTSTART:20271031T010000
END:STANDARD
END:VTIMEZONE
BEGIN:VEVENT
DTSTART;TZID=Europe/Berlin:20260201T133000
DTEND;TZID=Europe/Berlin:20260201T143000
DTSTAMP:20260423T121901
CREATED:20260212T163839Z
LAST-MODIFIED:20260212T163839Z
UID:5640-1769952600-1769956200@www.kmv-weinheim.de
SUMMARY:ACV Matinee
DESCRIPTION:
URL:https://www.kmv-weinheim.de/termin/acv-matinee/
LOCATION:Stadthalle Alzey\, Schießgraben 5\, Alzey\, 55232\, Deutschland
CATEGORIES:Fastnacht,Unterhaltungsmusik
END:VEVENT
BEGIN:VEVENT
DTSTART;TZID=Europe/Berlin:20260215T141100
DTEND;TZID=Europe/Berlin:20260215T170000
DTSTAMP:20260423T121901
CREATED:20260212T162500Z
LAST-MODIFIED:20260212T162500Z
UID:5636-1771164660-1771174800@www.kmv-weinheim.de
SUMMARY:Fastnachtsumzug Alzey
DESCRIPTION:
URL:https://www.kmv-weinheim.de/termin/fastnachtsumzug-alzey-2/
LOCATION:Alzey\, Rossmarkt\, Alzey\, Rheinland-Pfalz\, 55232\, Deutschland
CATEGORIES:Fastnacht,Umzug
END:VEVENT
BEGIN:VEVENT
DTSTART;TZID=Europe/Berlin:20260221T200000
DTEND;TZID=Europe/Berlin:20260221T220000
DTSTAMP:20260423T121901
CREATED:20260212T162637Z
LAST-MODIFIED:20260212T162637Z
UID:5638-1771704000-1771711200@www.kmv-weinheim.de
SUMMARY:Generalversammlung KMV
DESCRIPTION:
URL:https://www.kmv-weinheim.de/termin/generalversammlung-kmv/
LOCATION:Haus St. Gallus\, St.-Gallus-Ring 32\, Alzey\, Rheinland-Pfalz\, 55232\, Deutschland
CATEGORIES:Verein
END:VEVENT
END:VCALENDAR